View In:
ArcGIS JavaScript
ArcGIS Online Map Viewer
ArcGIS Earth
ArcMap
View Footprint In:
ArcGIS Online Map Viewer
Service Description: 2026_03_Pigeon_Creek_Section_09_10_tif
Name: 2026_03_Pigeon_Creek_Section_09_10_tif
Description:
Single Fused Map Cache: false
Extent:
XMin: 2805662.17279
YMin: 993806.3580939999
XMax: 2851420.527706
YMax: 1016920.67113
Spatial Reference: 2245
(2966)
LatestVCSWkid(0)
Initial Extent:
XMin: 2805662.17279
YMin: 993806.3580939999
XMax: 2851420.527706
YMax: 1016920.67113
Spatial Reference: 2245
(2966)
LatestVCSWkid(0)
Full Extent:
XMin: 2805662.17279
YMin: 993806.3580939999
XMax: 2851420.527706
YMax: 1016920.67113
Spatial Reference: 2245
(2966)
LatestVCSWkid(0)
Pixel Size X: 0.07962599999999967
Pixel Size Y: 0.07962600000000042
Band Count: 4
Pixel Type: U8
RasterFunction Infos: {"rasterFunctionInfos": [{
"name": "None",
"description": "",
"help": ""
}]}
Mensuration Capabilities: Basic
Has Histograms: true
Has Colormap: false
Has Multi Dimensions : false
Rendering Rule:
Min Scale: 0
Max Scale: 0
Copyright Text:
Service Data Type: esriImageServiceDataTypeGeneric
Min Values: 0, 0, 0, 0
Max Values: 255, 255, 255, 255
Mean Values: 7.1405599540761, 6.9503633818415, 6.2423042707133, 12.579328030035
Standard Deviation Values: 32.909625601385, 31.925912020603, 28.923299408149, 55.222179778473
Object ID Field:
Fields:
None
Default Mosaic Method: Center
Allowed Mosaic Methods:
SortField:
SortValue: null
Mosaic Operator: First
Default Compression Quality: 75
Default Resampling Method: Bilinear
Max Record Count: null
Max Image Height: 4100
Max Image Width: 15000
Max Download Image Count: null
Max Mosaic Image Count: null
Allow Raster Function: true
Allow Copy: true
Allow Analysis: true
Allow Compute TiePoints: false
Supports Statistics: false
Supports Advanced Queries: false
Use StandardizedQueries: true
Raster Type Infos:
Name: Raster Dataset
Description: Supports all ArcGIS Raster Datasets
Help:
Has Raster Attribute Table: false
Edit Fields Info: null
Ownership Based AccessControl For Rasters: null
Child Resources:
Info
Histograms
Statistics
Key Properties
Legend
Raster Function Infos
Supported Operations:
Export Image
Identify
Measure
Compute Histograms
Compute Statistics Histograms
Get Samples
Compute Class Statistics
Query Boundary
Compute Pixel Location
Compute Angles
Validate
Project