View In:
ArcGIS JavaScript
ArcGIS Online Map Viewer
ArcGIS Earth
ArcMap
View Footprint In:
ArcGIS Online Map Viewer
Service Description: 2026_03_Pigeon_Creek_Sections_06_08_tif
Name: 2026_03_Pigeon_Creek_Sections_06_08_tif
Description:
Single Fused Map Cache: false
Extent:
XMin: 2823681.57834
YMin: 1000315.18466
XMax: 2834865.06222
YMax: 1008729.4749200001
Spatial Reference: 2245
(2966)
LatestVCSWkid(0)
Initial Extent:
XMin: 2823681.57834
YMin: 1000315.18466
XMax: 2834865.06222
YMax: 1008729.4749200001
Spatial Reference: 2245
(2966)
LatestVCSWkid(0)
Full Extent:
XMin: 2823681.57834
YMin: 1000315.18466
XMax: 2834865.06222
YMax: 1008729.4749200001
Spatial Reference: 2245
(2966)
LatestVCSWkid(0)
Pixel Size X: 0.08469000000000143
Pixel Size Y: 0.08469000000000038
Band Count: 4
Pixel Type: U8
RasterFunction Infos: {"rasterFunctionInfos": [{
"name": "None",
"description": "",
"help": ""
}]}
Mensuration Capabilities: Basic
Has Histograms: true
Has Colormap: false
Has Multi Dimensions : false
Rendering Rule:
Min Scale: 0
Max Scale: 0
Copyright Text:
Service Data Type: esriImageServiceDataTypeGeneric
Min Values: 0, 0, 0, 0
Max Values: 255, 255, 255, 255
Mean Values: 20.592204327765, 20.197998648503, 18.375800741814, 37.547089890513
Standard Deviation Values: 52.917236345664, 51.686058013177, 47.435914495937, 90.358862123251
Object ID Field:
Fields:
None
Default Mosaic Method: Center
Allowed Mosaic Methods:
SortField:
SortValue: null
Mosaic Operator: First
Default Compression Quality: 75
Default Resampling Method: Bilinear
Max Record Count: null
Max Image Height: 4100
Max Image Width: 15000
Max Download Image Count: null
Max Mosaic Image Count: null
Allow Raster Function: true
Allow Copy: true
Allow Analysis: true
Allow Compute TiePoints: false
Supports Statistics: false
Supports Advanced Queries: false
Use StandardizedQueries: true
Raster Type Infos:
Name: Raster Dataset
Description: Supports all ArcGIS Raster Datasets
Help:
Has Raster Attribute Table: false
Edit Fields Info: null
Ownership Based AccessControl For Rasters: null
Child Resources:
Info
Histograms
Statistics
Key Properties
Legend
Raster Function Infos
Supported Operations:
Export Image
Identify
Measure
Compute Histograms
Compute Statistics Histograms
Get Samples
Compute Class Statistics
Query Boundary
Compute Pixel Location
Compute Angles
Validate
Project