{
 "currentVersion": 10.91,
 "cimVersion": "2.9.0",
 "serviceDescription": "Vanderburgh County Indiana, Street centerlines, surrounding county boundaries for reference and the imagry dataset consists of tiled orthogonal imagery produced from nadir images captured by Pictometry International. This ortho-mosaic is a visualization product and is not intended or valid for authoritative or definitive use, nor is it suitable for submittal to the USGS for funding reimbursement in such programs. GPS/INS processing: Data was post-processed using NGS CORS base station data. Mosaicing: Mosaicing was performed using Pictometry software. North American Vertical Datum of 1988 INVAND_Reveal1000_Delivery_Grid_SP83_INW_NAD83_USFT",
 "mapName": "Layers",
 "description": "",
 "copyrightText": "2020 Pictometry- Vanderburgh County, Assessor Office, Pictometry International, GIS dept",
 "supportsDynamicLayers": false,
 "layers": [
  {
   "id": 0,
   "name": "Streets",
   "parentLayerId": -1,
   "defaultVisibility": true,
   "subLayerIds": [
    1,
    2
   ],
   "minScale": 0,
   "maxScale": 0,
   "type": "Group Layer",
   "supportsDynamicLegends": false
  },
  {
   "id": 1,
   "name": "Vanderburgh Street Labels",
   "parentLayerId": 0,
   "defaultVisibility": true,
   "subLayerIds": null,
   "minScale": 0,
   "maxScale": 0,
   "type": "Feature Layer",
   "geometryType": "esriGeometryPolyline",
   "supportsDynamicLegends": true
  },
  {
   "id": 2,
   "name": "Surround Area Street Labels",
   "parentLayerId": 0,
   "defaultVisibility": true,
   "subLayerIds": null,
   "minScale": 288895.277144,
   "maxScale": 0,
   "type": "Feature Layer",
   "geometryType": "esriGeometryPolyline",
   "supportsDynamicLegends": true
  },
  {
   "id": 3,
   "name": "Street Centerlines",
   "parentLayerId": -1,
   "defaultVisibility": true,
   "subLayerIds": null,
   "minScale": 144448,
   "maxScale": 282,
   "type": "Feature Layer",
   "geometryType": "esriGeometryPolyline",
   "supportsDynamicLegends": true
  },
  {
   "id": 4,
   "name": "Bordering_Counties",
   "parentLayerId": -1,
   "defaultVisibility": true,
   "subLayerIds": null,
   "minScale": 0,
   "maxScale": 0,
   "type": "Feature Layer",
   "geometryType": "esriGeometryPolygon",
   "supportsDynamicLegends": true
  },
  {
   "id": 5,
   "name": "2020 Imagery by Pictometry",
   "parentLayerId": -1,
   "defaultVisibility": true,
   "subLayerIds": [
    6,
    7,
    8,
    9,
    10
   ],
   "minScale": 0,
   "maxScale": 0,
   "type": "Group Layer",
   "supportsDynamicLegends": false
  },
  {
   "id": 6,
   "name": "KnightTwpArea",
   "parentLayerId": 5,
   "defaultVisibility": true,
   "subLayerIds": null,
   "minScale": 0,
   "maxScale": 0,
   "type": "Raster Layer",
   "supportsDynamicLegends": true
  },
  {
   "id": 7,
   "name": "ScottCenterTwpArea",
   "parentLayerId": 5,
   "defaultVisibility": true,
   "subLayerIds": null,
   "minScale": 0,
   "maxScale": 0,
   "type": "Raster Layer",
   "supportsDynamicLegends": true
  },
  {
   "id": 8,
   "name": "UnionTwpArea",
   "parentLayerId": 5,
   "defaultVisibility": true,
   "subLayerIds": null,
   "minScale": 0,
   "maxScale": 0,
   "type": "Raster Layer",
   "supportsDynamicLegends": true
  },
  {
   "id": 9,
   "name": "GermanPerryTwpArea",
   "parentLayerId": 5,
   "defaultVisibility": true,
   "subLayerIds": null,
   "minScale": 0,
   "maxScale": 0,
   "type": "Raster Layer",
   "supportsDynamicLegends": true
  },
  {
   "id": 10,
   "name": "ArmstrongTwpArea",
   "parentLayerId": 5,
   "defaultVisibility": true,
   "subLayerIds": null,
   "minScale": 0,
   "maxScale": 0,
   "type": "Raster Layer",
   "supportsDynamicLegends": true
  }
 ],
 "tables": [],
 "spatialReference": {
  "wkt": "PROJCS[\"NAD_1983_Indiana_West\",GEOGCS[\"GCS_NAD83_1986\",DATUM[\"D_North_American_1983\",SPHEROID[\"GRS_1980\",6378137.0,298.257222101]],PRIMEM[\"Greenwich\",0.0],UNIT[\"Degree\",0.0174532925199433]],PROJECTION[\"Transverse_Mercator\"],PARAMETER[\"false_easting\",2952749.99999997],PARAMETER[\"false_northing\",820208.333333325],PARAMETER[\"central_meridian\",-87.083333333333],PARAMETER[\"scale_factor\",0.999966667],PARAMETER[\"latitude_of_origin\",37.5],UNIT[\"US survey foot\",0.3048006096012192]]",
  "xyTolerance": 0.0032808333333333,
  "zTolerance": 0.001,
  "mTolerance": 0.001,
  "falseX": -15495200,
  "falseY": -45615400,
  "xyUnits": 1.3724607682899535E8,
  "falseZ": -100000,
  "zUnits": 10000,
  "falseM": -100000,
  "mUnits": 10000
 },
 "singleFusedMapCache": true,
 "tileInfo": {
  "rows": 256,
  "cols": 256,
  "dpi": 96,
  "format": "MIXED",
  "compressionQuality": 75,
  "origin": {
   "x": -15495200,
   "y": 20012700
  },
  "spatialReference": {
   "wkt": "PROJCS[\"NAD_1983_Indiana_West\",GEOGCS[\"GCS_NAD83_1986\",DATUM[\"D_North_American_1983\",SPHEROID[\"GRS_1980\",6378137.0,298.257222101]],PRIMEM[\"Greenwich\",0.0],UNIT[\"Degree\",0.0174532925199433]],PROJECTION[\"Transverse_Mercator\"],PARAMETER[\"false_easting\",2952749.99999997],PARAMETER[\"false_northing\",820208.333333325],PARAMETER[\"central_meridian\",-87.083333333333],PARAMETER[\"scale_factor\",0.999966667],PARAMETER[\"latitude_of_origin\",37.5],UNIT[\"US survey foot\",0.3048006096012192]]",
   "xyTolerance": 0.0032808333333333,
   "zTolerance": 0.001,
   "mTolerance": 0.001,
   "falseX": -15495200,
   "falseY": -45615400,
   "xyUnits": 1.3724607682899535E8,
   "falseZ": -100000,
   "zUnits": 10000,
   "falseM": -100000,
   "mUnits": 10000
  },
  "lods": [
   {
    "level": 0,
    "resolution": 217.01388888888889,
    "scale": 250000
   },
   {
    "level": 1,
    "resolution": 108.50694444444444,
    "scale": 125000
   },
   {
    "level": 2,
    "resolution": 55.55555555555555,
    "scale": 64000
   },
   {
    "level": 3,
    "resolution": 27.777777777777775,
    "scale": 32000
   },
   {
    "level": 4,
    "resolution": 13.888888888888888,
    "scale": 16000
   },
   {
    "level": 5,
    "resolution": 6.944444444444444,
    "scale": 8000
   },
   {
    "level": 6,
    "resolution": 3.472222222222222,
    "scale": 4000
   },
   {
    "level": 7,
    "resolution": 1.736111111111111,
    "scale": 2000
   },
   {
    "level": 8,
    "resolution": 0.8680555555555555,
    "scale": 1000
   },
   {
    "level": 9,
    "resolution": 0.43402777777777773,
    "scale": 500
   }
  ]
 },
 "storageInfo": {
  "storageFormat": "esriMapCacheStorageModeCompactV2",
  "packetSize": 128
 },
 "initialExtent": {
  "xmin": 2798551.3158480297,
  "ymin": 1010931.1414033405,
  "xmax": 2806638.242729154,
  "ymax": 1013290.4904050042,
  "spatialReference": {
   "wkt": "PROJCS[\"NAD_1983_Indiana_West\",GEOGCS[\"GCS_NAD83_1986\",DATUM[\"D_North_American_1983\",SPHEROID[\"GRS_1980\",6378137.0,298.257222101]],PRIMEM[\"Greenwich\",0.0],UNIT[\"Degree\",0.0174532925199433]],PROJECTION[\"Transverse_Mercator\"],PARAMETER[\"false_easting\",2952749.99999997],PARAMETER[\"false_northing\",820208.333333325],PARAMETER[\"central_meridian\",-87.083333333333],PARAMETER[\"scale_factor\",0.999966667],PARAMETER[\"latitude_of_origin\",37.5],UNIT[\"US survey foot\",0.3048006096012192]]",
   "xyTolerance": 0.0032808333333333,
   "zTolerance": 0.001,
   "mTolerance": 0.001,
   "falseX": -15495200,
   "falseY": -45615400,
   "xyUnits": 1.3724607682899535E8,
   "falseZ": -100000,
   "zUnits": 10000,
   "falseM": -100000,
   "mUnits": 10000
  }
 },
 "fullExtent": {
  "xmin": 2660006.4789022836,
  "ymin": 871248.518017002,
  "xmax": 2971708.7468891144,
  "ymax": 1196788.1806255227,
  "spatialReference": {
   "wkt": "PROJCS[\"NAD_1983_Indiana_West\",GEOGCS[\"GCS_NAD83_1986\",DATUM[\"D_North_American_1983\",SPHEROID[\"GRS_1980\",6378137.0,298.257222101]],PRIMEM[\"Greenwich\",0.0],UNIT[\"Degree\",0.0174532925199433]],PROJECTION[\"Transverse_Mercator\"],PARAMETER[\"false_easting\",2952749.99999997],PARAMETER[\"false_northing\",820208.333333325],PARAMETER[\"central_meridian\",-87.083333333333],PARAMETER[\"scale_factor\",0.999966667],PARAMETER[\"latitude_of_origin\",37.5],UNIT[\"US survey foot\",0.3048006096012192]]",
   "xyTolerance": 0.0032808333333333,
   "zTolerance": 0.001,
   "mTolerance": 0.001,
   "falseX": -15495200,
   "falseY": -45615400,
   "xyUnits": 1.3724607682899535E8,
   "falseZ": -100000,
   "zUnits": 10000,
   "falseM": -100000,
   "mUnits": 10000
  }
 },
 "datesInUnknownTimezone": false,
 "minScale": 250000,
 "maxScale": 1000,
 "units": "esriFeet",
 "supportedImageFormatTypes": "PNG32,PNG24,PNG,JPG,DIB,TIFF,EMF,PS,PDF,GIF,SVG,SVGZ,BMP",
 "documentInfo": {
  "Title": "",
  "Author": "",
  "Comments": "Vanderburgh County Indiana, Street centerlines, surrounding county boundaries for reference and the imagry dataset consists of tiled orthogonal imagery produced from nadir images captured by Pictometry International. This ortho-mosaic is a visualization product and is not intended or valid for authoritative or definitive use, nor is it suitable for submittal to the USGS for funding reimbursement in such programs. GPS/INS processing: Data was post-processed using NGS CORS base station data. Mosaicing: Mosaicing was performed using Pictometry software. North American Vertical Datum of 1988 INVAND_Reveal1000_Delivery_Grid_SP83_INW_NAD83_USFT",
  "Subject": "Vanderburgh County Indiana Basemap with Imagery for reference",
  "Category": "",
  "AntialiasingMode": "None",
  "TextAntialiasingMode": "Force",
  "Version": "10.1",
  "Keywords": "Vanderburgh,Imagery,basemap,Indiana"
 },
 "supportsQueryDomains": true,
 "capabilities": "Map,Query,Data",
 "supportedQueryFormats": "JSON, geoJSON, PBF",
 "exportTilesAllowed": false,
 "referenceScale": 0.0,
 "supportsDatumTransformation": true,
 "archivingInfo": {
  "supportsHistoricMoment": false
 },
 "supportsClipping": true,
 "supportsSpatialFilter": true,
 "supportsTimeRelation": true,
 "supportsQueryDataElements": true,
 "maxRecordCount": 1000,
 "maxImageHeight": 4096,
 "maxImageWidth": 4096,
 "supportedExtensions": "KmlServer, WMSServer"
}
