{
 "currentVersion": 10.91,
 "serviceDescription": "ORTHOS/Pictometry2016_SID_9INCH",
 "name": "ORTHOS/Pictometry2016_SID_9INCH",
 "description": "",
 "extent": {
  "xmin": 2773638.75,
  "ymin": 939267.75,
  "xmax": 2848141.5,
  "ymax": 1066172.25,
  "spatialReference": {
   "wkt": "PROJCS[\"NAD_1983_Indiana_West_ftUS\",GEOGCS[\"GCS_North_American_1983\",DATUM[\"D_North_American_1983\",SPHEROID[\"GRS_1980\",6378137.0,298.257222101]],PRIMEM[\"Greenwich\",0.0],UNIT[\"Degree\",0.0174532925199433]],PROJECTION[\"Transverse_Mercator\"],PARAMETER[\"false_easting\",2952750.0],PARAMETER[\"false_northing\",820208.3333333334],PARAMETER[\"central_meridian\",-87.08333333333333],PARAMETER[\"scale_factor\",0.999966667],PARAMETER[\"latitude_of_origin\",37.5],UNIT[\"Foot_US\",0.3048006096012192]]"
  }
 },
 "initialExtent": {
  "xmin": 2773638.75,
  "ymin": 939267.75,
  "xmax": 2848141.5,
  "ymax": 1066172.25,
  "spatialReference": {
   "wkt": "PROJCS[\"NAD_1983_Indiana_West_ftUS\",GEOGCS[\"GCS_North_American_1983\",DATUM[\"D_North_American_1983\",SPHEROID[\"GRS_1980\",6378137.0,298.257222101]],PRIMEM[\"Greenwich\",0.0],UNIT[\"Degree\",0.0174532925199433]],PROJECTION[\"Transverse_Mercator\"],PARAMETER[\"false_easting\",2952750.0],PARAMETER[\"false_northing\",820208.3333333334],PARAMETER[\"central_meridian\",-87.08333333333333],PARAMETER[\"scale_factor\",0.999966667],PARAMETER[\"latitude_of_origin\",37.5],UNIT[\"Foot_US\",0.3048006096012192]]"
  }
 },
 "fullExtent": {
  "xmin": 2773638.75,
  "ymin": 939267.75,
  "xmax": 2848141.5,
  "ymax": 1066172.25,
  "spatialReference": {
   "wkt": "PROJCS[\"NAD_1983_Indiana_West_ftUS\",GEOGCS[\"GCS_North_American_1983\",DATUM[\"D_North_American_1983\",SPHEROID[\"GRS_1980\",6378137.0,298.257222101]],PRIMEM[\"Greenwich\",0.0],UNIT[\"Degree\",0.0174532925199433]],PROJECTION[\"Transverse_Mercator\"],PARAMETER[\"false_easting\",2952750.0],PARAMETER[\"false_northing\",820208.3333333334],PARAMETER[\"central_meridian\",-87.08333333333333],PARAMETER[\"scale_factor\",0.999966667],PARAMETER[\"latitude_of_origin\",37.5],UNIT[\"Foot_US\",0.3048006096012192]]"
  }
 },
 "hasMultidimensions": false,
 "pixelSizeX": 0.75,
 "pixelSizeY": 0.75,
 "datasetFormat": "MrSID",
 "uncompressedSize": 50425249266,
 "blockWidth": 1024,
 "blockHeight": 128,
 "compressionType": "Wavelet (MG3)",
 "bandNames": [
  "Band_1",
  "Band_2",
  "Band_3"
 ],
 "allowCopy": true,
 "allowAnalysis": true,
 "bandCount": 3,
 "pixelType": "U8",
 "minPixelSize": 0,
 "maxPixelSize": 0,
 "copyrightText": "",
 "serviceDataType": "esriImageServiceDataTypeRGB",
 "serviceSourceType": "esriImageServiceSourceTypeDataset",
 "minValues": [
  44,
  39,
  9
 ],
 "maxValues": [
  255,
  255,
  255
 ],
 "meanValues": [
  163.0164740595,
  145.29948364888,
  117.13105483157
 ],
 "stdvValues": [
  47.968357676134,
  54.566335176323,
  66.8819355221
 ],
 "objectIdField": "",
 "fields": [],
 "capabilities": "Image,Metadata,Mensuration",
 "defaultMosaicMethod": "Center",
 "allowedMosaicMethods": "",
 "sortField": "",
 "sortValue": null,
 "sortAscending": true,
 "mosaicOperator": "First",
 "defaultCompressionQuality": 75,
 "defaultResamplingMethod": "Bilinear",
 "maxImageHeight": 4100,
 "maxImageWidth": 15000,
 "allowRasterFunction": true,
 "rasterFunctionInfos": [
  {
   "name": "None",
   "description": "",
   "help": ""
  }
 ],
 "rasterTypeInfos": [
  {
   "name": "Raster Dataset",
   "description": "Supports all ArcGIS Raster Datasets",
   "help": ""
  }
 ],
 "mensurationCapabilities": "Basic",
 "hasHistograms": true,
 "hasColormap": false,
 "hasRasterAttributeTable": false,
 "minScale": 0,
 "maxScale": 0,
 "exportTilesAllowed": false,
 "supportsStatistics": false,
 "supportsAdvancedQueries": false,
 "editFieldsInfo": null,
 "ownershipBasedAccessControlForRasters": null,
 "allowComputeTiePoints": false,
 "useStandardizedQueries": true,
 "advancedQueryCapabilities": {
  "useStandardizedQueries": true,
  "supportsStatistics": false,
  "supportsOrderBy": false,
  "supportsDistinct": false,
  "supportsPagination": false
 },
 "spatialReference": {
  "wkt": "PROJCS[\"NAD_1983_Indiana_West_ftUS\",GEOGCS[\"GCS_North_American_1983\",DATUM[\"D_North_American_1983\",SPHEROID[\"GRS_1980\",6378137.0,298.257222101]],PRIMEM[\"Greenwich\",0.0],UNIT[\"Degree\",0.0174532925199433]],PROJECTION[\"Transverse_Mercator\"],PARAMETER[\"false_easting\",2952750.0],PARAMETER[\"false_northing\",820208.3333333334],PARAMETER[\"central_meridian\",-87.08333333333333],PARAMETER[\"scale_factor\",0.999966667],PARAMETER[\"latitude_of_origin\",37.5],UNIT[\"Foot_US\",0.3048006096012192]]"
 }
}
