View In:
ArcGIS JavaScript
ArcGIS Online Map Viewer
ArcGIS Earth
ArcMap
View Footprint In:
ArcGIS Online Map Viewer
Service Description: ORTHOS/ImagePict2014
Name: ORTHOS/ImagePict2014
Description:
Single Fused Map Cache: false
Extent:
XMin: 2773639.000006695
YMin: 939267.6679357261
XMax: 2848141.6659283284
YMax: 1066172.666666665
Spatial Reference: 2245
(2966)
Initial Extent:
XMin: 2773639.000006695
YMin: 939267.6679357261
XMax: 2848141.6659283284
YMax: 1066172.666666665
Spatial Reference: 2245
(2966)
Full Extent:
XMin: 2773639.000006695
YMin: 939267.6679357261
XMax: 2848141.6659283284
YMax: 1066172.666666665
Spatial Reference: 2245
(2966)
Pixel Size X: 0.33333332999997134
Pixel Size Y: 0.3333333299999711
Band Count: 3
Pixel Type: U8
RasterFunction Infos: {"rasterFunctionInfos": [{
"name": "None",
"description": "",
"help": ""
}]}
Mensuration Capabilities: Basic
Has Histograms: true
Has Colormap: false
Has Multi Dimensions : false
Rendering Rule:
Min Scale: 577790.554289
Max Scale: 1128.497176
Copyright Text:
Service Data Type: esriImageServiceDataTypeRGB
Min Values: 0, 0, 0
Max Values: 255, 255, 255
Mean Values: 145.98579226883737, 126.0088363441423, 87.05390314648858
Standard Deviation Values: 43.15513575458908, 39.36752940043734, 35.89662106899788
Object ID Field:
Fields:
None
Default Mosaic Method: Center
Allowed Mosaic Methods:
SortField:
SortValue: null
Mosaic Operator: First
Default Compression Quality: 75
Default Resampling Method: Bilinear
Max Record Count: null
Max Image Height: 4100
Max Image Width: 15000
Max Download Image Count: null
Max Mosaic Image Count: null
Allow Raster Function: true
Allow Copy: null
Allow Analysis: null
Allow Compute TiePoints: false
Supports Statistics: false
Supports Advanced Queries: false
Use StandardizedQueries: true
Raster Type Infos:
Name: Raster Dataset
Description: Supports all ArcGIS Raster Datasets
Help:
Has Raster Attribute Table: false
Edit Fields Info: null
Ownership Based AccessControl For Rasters: null
Child Resources:
Info
Histograms
Key Properties
Legend
Raster Function Infos
Supported Operations:
Export Image
Identify
Measure
Compute Histograms
Compute Statistics Histograms
Get Samples
Compute Class Statistics
Query Boundary
Compute Pixel Location
Validate
Project