View In:
ArcGIS JavaScript
ArcGIS Online Map Viewer
ArcGIS Earth
ArcMap
View Footprint In:
ArcGIS Online Map Viewer
Service Description: ORTHOS/Pictometry2016_SID_9INCH
Name: ORTHOS/Pictometry2016_SID_9INCH
Description:
Single Fused Map Cache: false
Extent:
XMin: 2773638.75
YMin: 939267.75
XMax: 2848141.5
YMax: 1066172.25
Spatial Reference: 0
(0)
LatestVCSWkid(0)
Initial Extent:
XMin: 2773638.75
YMin: 939267.75
XMax: 2848141.5
YMax: 1066172.25
Spatial Reference: 0
(0)
LatestVCSWkid(0)
Full Extent:
XMin: 2773638.75
YMin: 939267.75
XMax: 2848141.5
YMax: 1066172.25
Spatial Reference: 0
(0)
LatestVCSWkid(0)
Pixel Size X: 0.75
Pixel Size Y: 0.75
Band Count: 3
Pixel Type: U8
RasterFunction Infos: {"rasterFunctionInfos": [{
"name": "None",
"description": "",
"help": ""
}]}
Mensuration Capabilities: Basic
Has Histograms: true
Has Colormap: false
Has Multi Dimensions : false
Rendering Rule:
Min Scale: 0
Max Scale: 0
Copyright Text:
Service Data Type: esriImageServiceDataTypeRGB
Min Values: 44, 39, 9
Max Values: 255, 255, 255
Mean Values: 163.0164740595, 145.29948364888, 117.13105483157
Standard Deviation Values: 47.968357676134, 54.566335176323, 66.8819355221
Object ID Field:
Fields:
None
Default Mosaic Method: Center
Allowed Mosaic Methods:
SortField:
SortValue: null
Mosaic Operator: First
Default Compression Quality: 75
Default Resampling Method: Bilinear
Max Record Count: null
Max Image Height: 4100
Max Image Width: 15000
Max Download Image Count: null
Max Mosaic Image Count: null
Allow Raster Function: true
Allow Copy: true
Allow Analysis: true
Allow Compute TiePoints: false
Supports Statistics: false
Supports Advanced Queries: false
Use StandardizedQueries: true
Raster Type Infos:
Name: Raster Dataset
Description: Supports all ArcGIS Raster Datasets
Help:
Has Raster Attribute Table: false
Edit Fields Info: null
Ownership Based AccessControl For Rasters: null
Child Resources:
Info
Histograms
Statistics
Key Properties
Legend
Raster Function Infos
Supported Operations:
Export Image
Identify
Measure
Compute Histograms
Compute Statistics Histograms
Get Samples
Compute Class Statistics
Query Boundary
Compute Pixel Location
Compute Angles
Validate
Project